BEGIN:VCALENDAR
VERSION:2.0
PRODID:-//Avant Garde Sports Club - ECPv6.14.0//NONSGML v1.0//EN
CALSCALE:GREGORIAN
METHOD:PUBLISH
X-WR-CALNAME:Avant Garde Sports Club
X-ORIGINAL-URL:https://avantgardesportsclub.gr
X-WR-CALDESC:Avant Garde Sports Club - Εκδηλώσεις
REFRESH-INTERVAL;VALUE=DURATION:PT1H
X-Robots-Tag:noindex
X-PUBLISHED-TTL:PT1H
BEGIN:VTIMEZONE
TZID:Europe/Helsinki
BEGIN:DAYLIGHT
TZOFFSETFROM:+0200
TZOFFSETTO:+0300
TZNAME:EEST
DTSTART:20250330T010000
END:DAYLIGHT
BEGIN:STANDARD
TZOFFSETFROM:+0300
TZOFFSETTO:+0200
TZNAME:EET
DTSTART:20251026T010000
END:STANDARD
END:VTIMEZONE
BEGIN:VEVENT
DTSTART;VALUE=DATE:20251005
DTEND;VALUE=DATE:20251006
DTSTAMP:20260421T141135
CREATED:20250928T182910Z
LAST-MODIFIED:20251003T211243Z
UID:2933-1759622400-1759708799@avantgardesportsclub.gr
SUMMARY:🏐 Τουρνουά Beach Volley Μεικτό – Κυριακή 5/10
DESCRIPTION:Την Κυριακή 5 Οκτωβρίου\, σας περιμένουμε στην άμμο για ένα ξεχωριστό τουρνουά μεικτού beach volley!Το μεικτό σημαίνει ότι κάθε ομάδα αποτελείται από έναν άνδρα και μία γυναίκα. \n📅 Πληροφορίες \n\nΗμερομηνία: Κυριακή 5/10 |\nΏρα έναρξης: 10:30 π.μ.\nΔηλώσεις συμμετοχής έως: Παρασκευή 3/10\, ώρα 20:00 στην φόρμα που βρίσκεται παρακάτω\n\n💰 Κόστος συμμετοχής \n\n10€ ανά άτομο\n\n🎁 Παροχές \n\nΦρούτα & νερά για όλους τους αθλητές\nΑναμνηστικά δώρα για τους φιναλίστ\n\n👉 Κλείσε τη θέση σου και έλα να απολαύσουμε μαζί μια μέρα γεμάτη ρυθμό\, ήλιο και αγωνιστική διάθεση!
URL:https://avantgardesportsclub.gr/event/tournoya-beach-volley-mikto-kiriaki-5-10/
LOCATION:Avant Garde Thessaloniki
CATEGORIES:ΤΟΥΡΝΟΥΑ
END:VEVENT
END:VCALENDAR